BEGIN:VCALENDAR
VERSION:2.0
METHOD:PUBLISH
BEGIN:VEVENT
DTSTART:20221028T000000Z
DTEND:20221028T010000Z
LOCATION:Kornrommet
TRANSP: OPAQUE
SEQUENCE:0
UID:
DTSTAMP:20260419T233248Z
SUMMARY:Plan og bygningsloven: Et verktøy for urbant landbruk og sirkularitet i norske kommuner
DESCRIPTION:
PRIORITY:1
CLASS:PUBLIC
BEGIN:VALARM
TRIGGER:-PT10080M
ACTION:DISPLAY
DESCRIPTION:Reminder
END:VALARM
END:VEVENT
END:VCALENDAR
