BEGIN:VCALENDAR
VERSION:2.0
METHOD:PUBLISH
BEGIN:VEVENT
DTSTART:20250429T000000Z
DTEND:20250429T010000Z
LOCATION:Hovedkvarteret
TRANSP: OPAQUE
SEQUENCE:0
UID:
DTSTAMP:20260421T084309Z
SUMMARY:Bokbad med Sigbjørn Johnsen og Ina Libak: Den langsomme tryggheten
DESCRIPTION:
PRIORITY:1
CLASS:PUBLIC
BEGIN:VALARM
TRIGGER:-PT10080M
ACTION:DISPLAY
DESCRIPTION:Reminder
END:VALARM
END:VEVENT
END:VCALENDAR
