BEGIN:VCALENDAR
VERSION:2.0
METHOD:PUBLISH
BEGIN:VEVENT
DTSTART:20201118T000000Z
DTEND:20201118T010000Z
LOCATION:
TRANSP: OPAQUE
SEQUENCE:0
UID:
DTSTAMP:20260421T084720Z
SUMMARY:HAVRE &#8211; kvalitet, helseeffekter, mykotoksiner, tiltak
DESCRIPTION: I forbindelse med avslutning av NIBIOs prosjekt SafeOats/TryggHavre, arrangerer de seminar om havre. På seminaret vil positive og negative helseeffekter av havre til mat og fôr bli belyst. Streamen av seminaret er åpen for alle.
PRIORITY:1
CLASS:PUBLIC
BEGIN:VALARM
TRIGGER:-PT10080M
ACTION:DISPLAY
DESCRIPTION:Reminder
END:VALARM
END:VEVENT
END:VCALENDAR
