BEGIN:VCALENDAR
VERSION:2.0
METHOD:PUBLISH
BEGIN:VEVENT
DTSTART:20231022T000000Z
DTEND:20231022T010000Z
LOCATION:Hovedkvarteret
TRANSP: OPAQUE
SEQUENCE:0
UID:
DTSTAMP:20260420T090525Z
SUMMARY:Helgeaktivitet for barn: bygg og programmér med Lego Spike
DESCRIPTION:
PRIORITY:1
CLASS:PUBLIC
BEGIN:VALARM
TRIGGER:-PT10080M
ACTION:DISPLAY
DESCRIPTION:Reminder
END:VALARM
END:VEVENT
END:VCALENDAR
