BEGIN:VCALENDAR
VERSION:2.0
METHOD:PUBLISH
BEGIN:VEVENT
DTSTART:20190930T000000Z
DTEND:20190930T010000Z
LOCATION:Makerspace
TRANSP: OPAQUE
SEQUENCE:0
UID:
DTSTAMP:20260420T085449Z
SUMMARY:Høstferie med Vitenskolen
DESCRIPTION:Grønn teknologi, bærekraftig mat og morsomme fysikkforsøk - lek deg gjennom høstferien! 
PRIORITY:1
CLASS:PUBLIC
BEGIN:VALARM
TRIGGER:-PT10080M
ACTION:DISPLAY
DESCRIPTION:Reminder
END:VALARM
END:VEVENT
END:VCALENDAR
