BEGIN:VCALENDAR
VERSION:2.0
METHOD:PUBLISH
BEGIN:VEVENT
DTSTART:20180306T000000Z
DTEND:20180306T010000Z
LOCATION:Makerspace
TRANSP: OPAQUE
SEQUENCE:0
UID:
DTSTAMP:20260420T090145Z
SUMMARY:Kodekurs for de yngste
DESCRIPTION:
PRIORITY:1
CLASS:PUBLIC
BEGIN:VALARM
TRIGGER:-PT10080M
ACTION:DISPLAY
DESCRIPTION:Reminder
END:VALARM
END:VEVENT
END:VCALENDAR
