BEGIN:VCALENDAR
VERSION:2.0
METHOD:PUBLISH
BEGIN:VEVENT
DTSTART:20200312T000000Z
DTEND:20200312T010000Z
LOCATION:Vitenparken Kafé
TRANSP: OPAQUE
SEQUENCE:0
UID:
DTSTAMP:20260421T082014Z
SUMMARY:Avlyst: Løsningspuls #2 &#8211; Stoppe klimaendringene
DESCRIPTION:Ledende forskere og fagpersoner holder korte innlegg om egen forskning/arbeid, imens publikum gjør en iherdig innsats for å suge til seg kunnskapen. Kjøkkenet er åpent. Hos Vitenparken får du kunnskap til middag. 
PRIORITY:1
CLASS:PUBLIC
BEGIN:VALARM
TRIGGER:-PT10080M
ACTION:DISPLAY
DESCRIPTION:Reminder
END:VALARM
END:VEVENT
END:VCALENDAR
