BEGIN:VCALENDAR
VERSION:2.0
METHOD:PUBLISH
BEGIN:VEVENT
DTSTART:20200624T000000Z
DTEND:20200624T010000Z
LOCATION:Utstillingen
TRANSP: OPAQUE
SEQUENCE:0
UID:
DTSTAMP:20260419T195204Z
SUMMARY:Mat for mindre
DESCRIPTION:Hvilke bærekraftsmål er viktige for deg? Vi på Vitenparken ønsker å hjelpe til å nå målet om bærekraftig matproduksjon, slik at mer mat kan produseres for mindre ressurser. Besøk utstillingen, lek deg gjennom alle installasjonene og opplev hvordan teknologi og naturens systemer flettes sammen for fremtidens bærekraftige matproduksjon. Vi har en ny installasjon i utstillingen - kom til Vitenparken og prøv Brølepanteren!
PRIORITY:1
CLASS:PUBLIC
BEGIN:VALARM
TRIGGER:-PT10080M
ACTION:DISPLAY
DESCRIPTION:Reminder
END:VALARM
END:VEVENT
END:VCALENDAR
