BEGIN:VCALENDAR
VERSION:2.0
METHOD:PUBLISH
BEGIN:VEVENT
DTSTART:20250906T000000Z
DTEND:20250906T010000Z
LOCATION:Kornrommet
TRANSP: OPAQUE
SEQUENCE:0
UID:
DTSTAMP:20260421T094953Z
SUMMARY:Tretur: Parkvandring i Norges vakreste universitetspark med arborist Jeroen Scheepmaker + buffet
DESCRIPTION:
PRIORITY:1
CLASS:PUBLIC
BEGIN:VALARM
TRIGGER:-PT10080M
ACTION:DISPLAY
DESCRIPTION:Reminder
END:VALARM
END:VEVENT
END:VCALENDAR
