BEGIN:VCALENDAR
VERSION:2.0
METHOD:PUBLISH
BEGIN:VEVENT
DTSTART:20190602T000000Z
DTEND:20190602T010000Z
LOCATION:MatLab
TRANSP: OPAQUE
SEQUENCE:0
UID:
DTSTAMP:20260420T085628Z
SUMMARY:VitenSøndag &#8211; VitenSmak
DESCRIPTION:Vi har fem sanser. Disse sansene påvirker matopplevelsen når vi spiser, men hva skjer hvis vi tar bort en av sansene? Denne søndagen skal vi smake på mat og utforske sansene våre!
PRIORITY:1
CLASS:PUBLIC
BEGIN:VALARM
TRIGGER:-PT10080M
ACTION:DISPLAY
DESCRIPTION:Reminder
END:VALARM
END:VEVENT
END:VCALENDAR
