BEGIN:VCALENDAR
VERSION:2.0
METHOD:PUBLISH
BEGIN:VEVENT
DTSTART:20230304T000000Z
DTEND:20230304T010000Z
LOCATION:Mezzaninen
TRANSP: OPAQUE
SEQUENCE:0
UID:
DTSTAMP:20260419T195838Z
SUMMARY:Slimverksted 4.-5. mars
DESCRIPTION:
PRIORITY:1
CLASS:PUBLIC
BEGIN:VALARM
TRIGGER:-PT10080M
ACTION:DISPLAY
DESCRIPTION:Reminder
END:VALARM
END:VEVENT
END:VCALENDAR
