BEGIN:VCALENDAR
VERSION:2.0
METHOD:PUBLISH
BEGIN:VEVENT
DTSTART:20190912T000000Z
DTEND:20190912T010000Z
LOCATION:Hovedkvarteret
TRANSP: OPAQUE
SEQUENCE:0
UID:
DTSTAMP:20260421T114948Z
SUMMARY:Bioplastics &#8211; It´s a better choice
DESCRIPTION:For tiden er det mye fokus på plastmaterialer og plast i naturen. Plastmaterialenes fremtid diskuteres av både media, forskere og vanlige folk. Bli med på seminar, torsdag 12. september kl 10.00-16.00. 
PRIORITY:1
CLASS:PUBLIC
BEGIN:VALARM
TRIGGER:-PT10080M
ACTION:DISPLAY
DESCRIPTION:Reminder
END:VALARM
END:VEVENT
END:VCALENDAR
