BEGIN:VCALENDAR
VERSION:2.0
METHOD:PUBLISH
BEGIN:VEVENT
DTSTART:20220610T000000Z
DTEND:20220610T010000Z
LOCATION:Kornrommet
TRANSP: OPAQUE
SEQUENCE:0
UID:
DTSTAMP:20260419T185528Z
SUMMARY:GreenSmart Seminar: Social Justice in the Green City.
DESCRIPTION:
PRIORITY:1
CLASS:PUBLIC
BEGIN:VALARM
TRIGGER:-PT10080M
ACTION:DISPLAY
DESCRIPTION:Reminder
END:VALARM
END:VEVENT
END:VCALENDAR
