BEGIN:VCALENDAR
VERSION:2.0
METHOD:PUBLISH
BEGIN:VEVENT
DTSTART:20190328T000000Z
DTEND:20190328T010000Z
LOCATION:Vitenteateret
TRANSP: OPAQUE
SEQUENCE:0
UID:
DTSTAMP:20260419T133045Z
SUMMARY:Foredragsmøte med Svein Sundsbø: Korn, kraft, klima
DESCRIPTION:Tidligere landbruksminister Svein Sundsbø vil torsdag 28. mars holde foredrag med utgangspunkt i sin nye bok «Korn, kraft, klima.» Boka er Svein Sundsbøs personlige fortelling om samfunn og politikk gjennom 210 år. I boka tar Svein Sundsbø utgangspunkt i Terje Vigen og hans dramatiske tur til Danmark for å skaffe familien mat i 1809. Samme år ble Selskapet for Norges Vel etablert som et redskap for norsk selvstendighet, forskning, økt matforsyning og næringsutvikling. Med dette utgangspunktet fra 1809 trekker Svein Sundsbø linjene fram til to av verdens store utfordringer i dag – matforsyning og menneskeskapte klimaendringer.
PRIORITY:1
CLASS:PUBLIC
BEGIN:VALARM
TRIGGER:-PT10080M
ACTION:DISPLAY
DESCRIPTION:Reminder
END:VALARM
END:VEVENT
END:VCALENDAR
