BEGIN:VCALENDAR
VERSION:2.0
METHOD:PUBLISH
BEGIN:VEVENT
DTSTART:20250608T000000Z
DTEND:20250608T010000Z
LOCATION:
TRANSP: OPAQUE
SEQUENCE:0
UID:
DTSTAMP:20260421T084647Z
SUMMARY:Fuglesangtur med Solve Sæbø i NMBU-parken og frokostbuffet &#8211; Utsolgt
DESCRIPTION:
PRIORITY:1
CLASS:PUBLIC
BEGIN:VALARM
TRIGGER:-PT10080M
ACTION:DISPLAY
DESCRIPTION:Reminder
END:VALARM
END:VEVENT
END:VCALENDAR
