BEGIN:VCALENDAR
VERSION:2.0
METHOD:PUBLISH
BEGIN:VEVENT
DTSTART:20180412T000000Z
DTEND:20180412T010000Z
LOCATION:Hovedkvarteret
TRANSP: OPAQUE
SEQUENCE:0
UID:
DTSTAMP:20260421T133522Z
SUMMARY:Norsk myrforskning i fortid og framtid
DESCRIPTION:Bli med på kveldsseminaret på Vitenparken torsdag 12. april 2018 &quot;Norsk myrforskning i fortid og framtid - Fra å redusere utvandring til å redusere klimagassutslipp.&quot; Kokkene på Vitenparken har latt seg inspirere av myras råvarer og serverer blant annet spiresalat, «barkchips», elgkjøttkaker med tyttebær og multekake. Dette blir en kunnskapsrik og smakfull aften. Påmeldingen er gratis. 
PRIORITY:1
CLASS:PUBLIC
BEGIN:VALARM
TRIGGER:-PT10080M
ACTION:DISPLAY
DESCRIPTION:Reminder
END:VALARM
END:VEVENT
END:VCALENDAR
